BEGIN:VCALENDAR
VERSION:2.0
PRODID:-//Suomen Windsurfer liitto - ECPv6.12.0.1//NONSGML v1.0//EN
CALSCALE:GREGORIAN
METHOD:PUBLISH
X-ORIGINAL-URL:https://windsurferclass.fi
X-WR-CALDESC:Events for Suomen Windsurfer liitto
REFRESH-INTERVAL;VALUE=DURATION:PT1H
X-Robots-Tag:noindex
X-PUBLISHED-TTL:PT1H
BEGIN:VTIMEZONE
TZID:Europe/Helsinki
BEGIN:DAYLIGHT
TZOFFSETFROM:+0200
TZOFFSETTO:+0300
TZNAME:EEST
DTSTART:20230326T010000
END:DAYLIGHT
BEGIN:STANDARD
TZOFFSETFROM:+0300
TZOFFSETTO:+0200
TZNAME:EET
DTSTART:20231029T010000
END:STANDARD
END:VTIMEZONE
BEGIN:VEVENT
DTSTART;TZID=Europe/Helsinki:20231111T110000
DTEND;TZID=Europe/Helsinki:20231111T160000
DTSTAMP:20260420T064032
CREATED:20230904T071239Z
LAST-MODIFIED:20230913T164819Z
UID:6002-1699700400-1699718400@windsurferclass.fi
SUMMARY:TONTUT   11.11.2023  BS HKI
DESCRIPTION:BS SILTOJEN IHAILU PURJEHDUS  ja GLÖGIT YM RANNALLA
URL:https://windsurferclass.fi/event/tontut-11-11-2023-bt/
CATEGORIES:2023,ei_kilpailu,Suomessa
END:VEVENT
END:VCALENDAR