BEGIN:VCALENDAR
VERSION:2.0
PRODID:-//Suomen Windsurfer liitto - ECPv6.12.0.1//NONSGML v1.0//EN
CALSCALE:GREGORIAN
METHOD:PUBLISH
X-WR-CALNAME:Suomen Windsurfer liitto
X-ORIGINAL-URL:https://windsurferclass.fi
X-WR-CALDESC:Events for Suomen Windsurfer liitto
REFRESH-INTERVAL;VALUE=DURATION:PT1H
X-Robots-Tag:noindex
X-PUBLISHED-TTL:PT1H
BEGIN:VTIMEZONE
TZID:Europe/Helsinki
BEGIN:DAYLIGHT
TZOFFSETFROM:+0200
TZOFFSETTO:+0300
TZNAME:EEST
DTSTART:20230326T010000
END:DAYLIGHT
BEGIN:STANDARD
TZOFFSETFROM:+0300
TZOFFSETTO:+0200
TZNAME:EET
DTSTART:20231029T010000
END:STANDARD
END:VTIMEZONE
BEGIN:VEVENT
DTSTART;TZID=Europe/Helsinki:20230806T080000
DTEND;TZID=Europe/Helsinki:20230806T170000
DTSTAMP:20260420T115312
CREATED:20230227T184352Z
LAST-MODIFIED:20230913T164745Z
UID:5928-1691308800-1691341200@windsurferclass.fi
SUMMARY:Rookie päivä Naantalin Pursiseura
DESCRIPTION:
URL:https://windsurferclass.fi/event/rookie-paiva-naantalin-pursiseura/
CATEGORIES:2023,ei_kilpailu,Suomessa
ATTACH;FMTTYPE=image/jpeg:https://windsurferclass.fi/wp-content/uploads/2021/05/Fiiliskuva_tuulisahkoon_Mistral.jpg
END:VEVENT
END:VCALENDAR