BEGIN:VCALENDAR
VERSION:2.0
PRODID:-//Suomen Windsurfer liitto - ECPv6.12.0.1//NONSGML v1.0//EN
CALSCALE:GREGORIAN
METHOD:PUBLISH
X-ORIGINAL-URL:https://windsurferclass.fi
X-WR-CALDESC:Events for Suomen Windsurfer liitto
REFRESH-INTERVAL;VALUE=DURATION:PT1H
X-Robots-Tag:noindex
X-PUBLISHED-TTL:PT1H
BEGIN:VTIMEZONE
TZID:Europe/Helsinki
BEGIN:DAYLIGHT
TZOFFSETFROM:+0200
TZOFFSETTO:+0300
TZNAME:EEST
DTSTART:20210328T010000
END:DAYLIGHT
BEGIN:STANDARD
TZOFFSETFROM:+0300
TZOFFSETTO:+0200
TZNAME:EET
DTSTART:20211031T010000
END:STANDARD
END:VTIMEZONE
BEGIN:VEVENT
DTSTART;TZID=Europe/Helsinki:20210529T100000
DTEND;TZID=Europe/Helsinki:20210530T170000
DTSTAMP:20260424T144929
CREATED:20210427T155829Z
LAST-MODIFIED:20230913T165246Z
UID:4757-1622282400-1622394000@windsurferclass.fi
SUMMARY:Lautaleiri alle 16 vuotiaille Helsingissä
DESCRIPTION:29.-30.5. lautaleiri U16\, BS \nSPV:n valmentaja: Borja Carracedo (ESP) + seuravalmentajat \nilmoittautuminen: https://forms.gle/oycqrsVs4EiF6RkZ7 (ilmoit. 18.5. mennessä\, molemmat päivät 10-17) \nKo lautaleiri on tarkoitettu vasta-alkajille (aiempi kokemus ei välttämätöntä)\nmax 25 osallistujaa\, oma märkäpuku ja liivit\, laudan jne. saa lainaksi\nyhteyshenkilö: Katja Säilä\, katja@spll.fi
URL:https://windsurferclass.fi/event/lautaleiri-alle-16-vuotiaille-helsingissa/
LOCATION:Brändö Seglarna\, Brändö Seglarna\, Helsinki\, Suomi
CATEGORIES:2021,ei_kilpailu,Suomessa
ATTACH;FMTTYPE=image/png:https://windsurferclass.fi/wp-content/uploads/2021/04/Screenshot-2021-04-27-at-18.54.27.png
END:VEVENT
END:VCALENDAR